Workbook
Name sino: [1]Risposte!$A$2:$A$3
Name sinona: [1]Risposte!$B$2:$B$4
Name sinoparz: [1]Risposte!$C$2:$C$4
Name sinoparzna: [1]Risposte!$D$2:$D$5

Sheet sintesi carte di lavoro
C1: SEZIONE DI SINTESI DELLE CARTE DI LAVORO
C2: DENOMINAZIONE AMM.NE | D2: Università degli Studi di PALERMO | E2: Scegliere l'amministrazione dal menù a tendina a sinistra (cella D2). Nel caso in cui l'amministrazione non sia inclusa nell'elenco, scegliere "Altra amministrazione" (cella D2) e indicarne la denominazione nella cella D3
A4: CONCATENA | B4: SIGLA | C4: RIFERIMENTI DELLA RELAZIONE SULLA PERFORMANCE (A) | D4: OGGETTO DI VERIFICA AI FINI DELLA VALIDAZIONE (AREE DI VERIFICA) (B) | E4: CONCLUSIONI RAGGIUNTE (H) (max 100 parole) | F4: VALIDAZIONE (SI/NO) (I)
A5: =+CONCATENATE(B5,C5) -> UNIPA1 | B5: =+IF(IFERROR(VLOOKUP($D$2,amm.ni!$B$2:$C$163,1,FALSE),1)=$D$2,VLOOKUP($D$2,amm.ni!$B$2:$C$163,2,FALSE),IF($D$2="","non compilato",IF(AND($D$2=amm.ni!$B$164,$D$3=""),$D$2,$D$3))) -> UNIPA | C5: 1 | D5: PRESENTAZIONE E INDICE | E5: L’indice, pur non corrispondendo del tutto a quello previsto dalla delibera n. 5/2012 ANAC (ex CiVIT), assolve alle finalità previste. La presentazione risulta chiara e di semplice lettura. Nel complesso si ritiene che tale sezione possa essere validata poiché gli esiti della verifica risultano essere più che sufficienti. | F5: SI
A6: =+CONCATENATE(B6,C6) -> UNIPA2 | B6: =+IF(IFERROR(VLOOKUP($D$2,amm.ni!$B$2:$C$163,1,FALSE),1)=$D$2,VLOOKUP($D$2,amm.ni!$B$2:$C$163,2,FALSE),IF($D$2="","non compilato",IF(AND($D$2=amm.ni!$B$164,$D$3=""),$D$2,$D$3))) -> UNIPA | C6: 2 | D6: SINTESI DELLE INFORMAZIONI DI INTERESSE PER I CITTADINI E GLI ALTRI STAKEHOLDER ESTERNI | F6: SI
A7: =+CONCATENATE(B7,C7) -> UNIPA2.1 | B7: =+IF(IFERROR(VLOOKUP($D$2,amm.ni!$B$2:$C$163,1,FALSE),1)=$D$2,VLOOKUP($D$2,amm.ni!$B$2:$C$163,2,FALSE),IF($D$2="","non compilato",IF(AND($D$2=amm.ni!$B$164,$D$3=""),$D$2,$D$3))) -> UNIPA | C7: 2.1 | D7: Il contesto esterno di riferimento | E7: Il punto rispetta quanto richiesto dalla normativa di riferimento. Si ritiene che il livello di conformità e di attendibilità sia più che sufficiente ai fini della validazione. | F7: SI
A8: =+CONCATENATE(B8,C8) -> UNIPA2.2 | B8: =+IF(IFERROR(VLOOKUP($D$2,amm.ni!$B$2:$C$163,1,FALSE),1)=$D$2,VLOOKUP($D$2,amm.ni!$B$2:$C$163,2,FALSE),IF($D$2="","non compilato",IF(AND($D$2=amm.ni!$B$164,$D$3=""),$D$2,$D$3))) -> UNIPA | C8: 2.2 | D8: L’amministrazione | E8: Tale punto, pur non rispondendo completamente a quanto richiesto dalla normativa di riferimento, si caratterizza per l’attendibilità dei dati e per la chiarezza dei contenuti. Pertanto si ritiene, che il livello di conformità e di attendibilità sia sufficiente ai fini della validazione. | F8: SI
A9: =+CONCATENATE(B9,C9) -> UNIPA2.3 | B9: =+IF(IFERROR(VLOOKUP($D$2,amm.ni!$B$2:$C$163,1,FALSE),1)=$D$2,VLOOKUP($D$2,amm.ni!$B$2:$C$163,2,FALSE),IF($D$2="","non compilato",IF(AND($D$2=amm.ni!$B$164,$D$3=""),$D$2,$D$3))) -> UNIPA | C9: 2.3 | D9: I risultati raggiunti | E9: Il punto rispetta quanto richiesto dalla normativa di riferimento. Si ritiene che il livello di conformità e di attendibilità sia più che sufficiente ai fini della validazione. | F9: SI
A10: =+CONCATENATE(B10,C10) -> UNIPA2.4 | B10: =+IF(IFERROR(VLOOKUP($D$2,amm.ni!$B$2:$C$163,1,FALSE),1)=$D$2,VLOOKUP($D$2,amm.ni!$B$2:$C$163,2,FALSE),IF($D$2="","non compilato",IF(AND($D$2=amm.ni!$B$164,$D$3=""),$D$2,$D$3))) -> UNIPA | C10: 2.4 | D10: Le criticità e le opportunità | E10: Il punto rispetta quanto richiesto dalla normativa di riferimento. Si ritiene che il livello di conformità e di attendibilità sia più che sufficiente ai fini della validazione. | F10: SI
A11: =+CONCATENATE(B11,C11) -> UNIPA3 | B11: =+IF(IFERROR(VLOOKUP($D$2,amm.ni!$B$2:$C$163,1,FALSE),1)=$D$2,VLOOKUP($D$2,amm.ni!$B$2:$C$163,2,FALSE),IF($D$2="","non compilato",IF(AND($D$2=amm.ni!$B$164,$D$3=""),$D$2,$D$3))) -> UNIPA | C11: 3 | D11: OBIETTIVI: RISULTATI RAGGIUNTI E SCOSTAMENTI | F11: SI
A12: =+CONCATENATE(B12,C12) -> UNIPA3.1 | B12: =+IF(IFERROR(VLOOKUP($D$2,amm.ni!$B$2:$C$163,1,FALSE),1)=$D$2,VLOOKUP($D$2,amm.ni!$B$2:$C$163,2,FALSE),IF($D$2="","non compilato",IF(AND($D$2=amm.ni!$B$164,$D$3=""),$D$2,$D$3))) -> UNIPA | C12: 3.1 | D12: Albero della performance | E12: Il punto rispetta quanto richiesto dalla normativa di riferimento. Si evidenzia un ottimo livello di conformità e di attendibilità ai fini della validazione. | F12: SI
A13: =+CONCATENATE(B13,C13) -> UNIPA3.2 | B13: =+IF(IFERROR(VLOOKUP($D$2,amm.ni!$B$2:$C$163,1,FALSE),1)=$D$2,VLOOKUP($D$2,amm.ni!$B$2:$C$163,2,FALSE),IF($D$2="","non compilato",IF(AND($D$2=amm.ni!$B$164,$D$3=""),$D$2,$D$3))) -> UNIPA | C13: 3.2 | D13: Obiettivi strategici | E13: Il punto rispetta quanto richiesto dalla normativa di riferimento. Si ritiene che il livello di conformità e di attendibilità sia buona ai fini della validazione, anche alla luce della verifica delle fonti effettuata. | F13: SI
A14: =+CONCATENATE(B14,C14) -> UNIPA3.3 | B14: =+IF(IFERROR(VLOOKUP($D$2,amm.ni!$B$2:$C$163,1,FALSE),1)=$D$2,VLOOKUP($D$2,amm.ni!$B$2:$C$163,2,FALSE),IF($D$2="","non compilato",IF(AND($D$2=amm.ni!$B$164,$D$3=""),$D$2,$D$3))) -> UNIPA | C14: 3.3 | D14: Obiettivi e piani operativi | E14: Tale punto, pur non rispondendo completamente a quanto richiesto dalla normativa di riferimento, si caratterizza per l’attendibilità dei dati esposti e per la chiarezza dei contenuti. Pertanto si ritiene, che il livello di conformità e di attendibilità sia sufficiente ai fini della validazione. | F14: SI
A15: =+CONCATENATE(B15,C15) -> UNIPA3.4 | B15: =+IF(IFERROR(VLOOKUP($D$2,amm.ni!$B$2:$C$163,1,FALSE),1)=$D$2,VLOOKUP($D$2,amm.ni!$B$2:$C$163,2,FALSE),IF($D$2="","non compilato",IF(AND($D$2=amm.ni!$B$164,$D$3=""),$D$2,$D$3))) -> UNIPA | C15: 3.4 | D15: Obiettivi individuali | E15: Il punto rispetta quanto richiesto dalla normativa di riferimento. Si evidenzia un ottimo livello di conformità e di attendibilità ai fini della validazione | F15: SI
A16: =+CONCATENATE(B16,C16) -> UNIPA4 | B16: =+IF(IFERROR(VLOOKUP($D$2,amm.ni!$B$2:$C$163,1,FALSE),1)=$D$2,VLOOKUP($D$2,amm.ni!$B$2:$C$163,2,FALSE),IF($D$2="","non compilato",IF(AND($D$2=amm.ni!$B$164,$D$3=""),$D$2,$D$3))) -> UNIPA | C16: 4 | D16: RISORSE, EFFICIENZA ED ECONOMICITÀ | E16: Tale argomento è trattato nell'ambito della Relazione ma non in questa sezione. | F16: SI
A17: =+CONCATENATE(B17,C17) -> UNIPA5 | B17: =+IF(IFERROR(VLOOKUP($D$2,amm.ni!$B$2:$C$163,1,FALSE),1)=$D$2,VLOOKUP($D$2,amm.ni!$B$2:$C$163,2,FALSE),IF($D$2="","non compilato",IF(AND($D$2=amm.ni!$B$164,$D$3=""),$D$2,$D$3))) -> UNIPA | C17: 5 | D17: PARI OPPORTUNITÀ E BILANCIO DI GENERE | E17: Tale argomento è trattato nell'ambito della Relazione ma non in questa sezione. | F17: SI
A18: =+CONCATENATE(B18,C18) -> UNIPA6 | B18: =+IF(IFERROR(VLOOKUP($D$2,amm.ni!$B$2:$C$163,1,FALSE),1)=$D$2,VLOOKUP($D$2,amm.ni!$B$2:$C$163,2,FALSE),IF($D$2="","non compilato",IF(AND($D$2=amm.ni!$B$164,$D$3=""),$D$2,$D$3))) -> UNIPA | C18: 6 | D18: IL PROCESSO DI REDAZIONE DELLA RELAZIONE SULLA PERFORMANCE | F18: SI
A19: =+CONCATENATE(B19,C19) -> UNIPA6.1 | B19: =+IF(IFERROR(VLOOKUP($D$2,amm.ni!$B$2:$C$163,1,FALSE),1)=$D$2,VLOOKUP($D$2,amm.ni!$B$2:$C$163,2,FALSE),IF($D$2="","non compilato",IF(AND($D$2=amm.ni!$B$164,$D$3=""),$D$2,$D$3))) -> UNIPA | C19: 6.1 | D19: Fasi, soggetti, tempi e responsabilità | E19: Il punto rispetta quanto richiesto dalla normativa di riferimento. Si ritiene che il livello di conformità e di attendibilità sia più che sufficiente ai fini della validazione. | F19: SI
A20: =+CONCATENATE(B20,C20) -> UNIPA6.2 | B20: =+IF(IFERROR(VLOOKUP($D$2,amm.ni!$B$2:$C$163,1,FALSE),1)=$D$2,VLOOKUP($D$2,amm.ni!$B$2:$C$163,2,FALSE),IF($D$2="","non compilato",IF(AND($D$2=amm.ni!$B$164,$D$3=""),$D$2,$D$3))) -> UNIPA | C20: 6.2 | D20: Punti di forza e di debolezza del ciclo di gestione della performance | E20: Il punto rispetta quanto richiesto dalla normativa di riferimento. Si ritiene che il livello di conformità e di attendibilità sia più che sufficiente ai fini della validazione. | F20: SI
A21: =+CONCATENATE(B21,C21) -> UNIPAAllegato 2 | B21: =+IF(IFERROR(VLOOKUP($D$2,amm.ni!$B$2:$C$163,1,FALSE),1)=$D$2,VLOOKUP($D$2,amm.ni!$B$2:$C$163,2,FALSE),IF($D$2="","non compilato",IF(AND($D$2=amm.ni!$B$164,$D$3=""),$D$2,$D$3))) -> UNIPA | C21: Allegato 2 | D21: Tabella obiettivi strategici | E21: Tale tabella è inserita nella Relazione e non come allegato alla stessa. | F21: SI
A22: =+CONCATENATE(B22,C22) -> UNIPAAllegato 3 | B22: =+IF(IFERROR(VLOOKUP($D$2,amm.ni!$B$2:$C$163,1,FALSE),1)=$D$2,VLOOKUP($D$2,amm.ni!$B$2:$C$163,2,FALSE),IF($D$2="","non compilato",IF(AND($D$2=amm.ni!$B$164,$D$3=""),$D$2,$D$3))) -> UNIPA | C22: Allegato 3 | D22: Tabella documenti del ciclo di gestione della performance | E22: Tale tabella è inserita nella Relazione e non come allegato alla stessa. | F22: SI
A23: =+CONCATENATE(B23,C23) -> UNIPAAllegato 4 | B23: =+IF(IFERROR(VLOOKUP($D$2,amm.ni!$B$2:$C$163,1,FALSE),1)=$D$2,VLOOKUP($D$2,amm.ni!$B$2:$C$163,2,FALSE),IF($D$2="","non compilato",IF(AND($D$2=amm.ni!$B$164,$D$3=""),$D$2,$D$3))) -> UNIPA | C23: Allegato 4 | D23: Tabelle sulla valutazione individuale | E23: Tale tabella è inserita nella Relazione e non come allegato alla stessa. | F23: SI

Sheet amm.ni
A1: Comparto | B1: Denominazione Amministrazione | C1: Sigla
A2: Amministrazioni centrali | B2: Ministero del Lavoro e delle Politiche Sociali | C2: MLPS
A3: Amministrazioni centrali | B3: Ministero Infrastrutture e trasporti | C3: MIT
A4: Amministrazioni centrali | B4: Ministero della Giustizia | C4: MG
A5: Amministrazioni centrali | B5: Ministero per i beni e le attività culturali | C5: MIBAC
A6: Amministrazioni centrali | B6: Ministero Affari Esteri | C6: MAE
A7: Amministrazioni centrali | B7: Ministero Istruzione Università e Ricerca | C7: MIUR
A8: Amministrazioni centrali | B8: Ministero della Salute | C8: MSAL
A9: Amministrazioni centrali | B9: Ministero dell'Interno | C9: MINT
A10: Amministrazioni centrali | B10: Ministero della Difesa | C10: MDIF
A11: Amministrazioni centrali | B11: Agenzia industrie difesa | C11: AID
A12: Amministrazioni centrali | B12: Ministero dell'Ambiente | C12: MAMB
... A163: Università pubbliche | B163: I.U.S.S. - Istituto Universitario di Studi Superiori - PAVIA | C163: IUSS
B164: Altra amministrazione
