Workbook
Name sino: [1]Risposte!$A$2:$A$3
Name sinona: [1]Risposte!$B$2:$B$4
Name sinoparz: [1]Risposte!$C$2:$C$4
Name sinoparzna: [1]Risposte!$D$2:$D$5

Sheet sintesi carte di lavoro
C1: SEZIONE DI SINTESI DELLE CARTE DI LAVORO
C2: DENOMINAZIONE AMM.NE | D2: Ministero dell'Interno | E2: Scegliere l'amministrazione dal menù a tendina a sinistra (cella D2). Nel caso in cui l'amministrazione non sia inclusa nell'elenco, scegliere "Altra amministrazione" (cella D2) e indicarne la denominazione nella cella D3
A4: CONCATENA | B4: SIGLA | C4: RIFERIMENTI DELLA RELAZIONE SULLA PERFORMANCE (A) | D4: OGGETTO DI VERIFICA AI FINI DELLA VALIDAZIONE (AREE DI VERIFICA) (B) | E4: CONCLUSIONI RAGGIUNTE (H) (max 100 parole) | F4: VALIDAZIONE (SI/NO) (I)
A5: =+CONCATENATE(B5,C5) -> MINT1 | B5: =+IF(IFERROR(VLOOKUP($D$2,amm.ni!$B$2:$C$163,1,FALSE),1)=$D$2,VLOOKUP($D$2,amm.ni!$B$2:$C$163,2,FALSE),IF($D$2="","non compilato",IF(AND($D$2=amm.ni!$B$164,$D$3=""),$D$2,$D$3))) -> MINT | C5: 1 | D5: PRESENTAZIONE E INDICE
A6: =+CONCATENATE(B6,C6) -> MINT2 | B6: =+IF(IFERROR(VLOOKUP($D$2,amm.ni!$B$2:$C$163,1,FALSE),1)=$D$2,VLOOKUP($D$2,amm.ni!$B$2:$C$163,2,FALSE),IF($D$2="","non compilato",IF(AND($D$2=amm.ni!$B$164,$D$3=""),$D$2,$D$3))) -> MINT | C6: 2 | D6: SINTESI DELLE INFORMAZIONI DI INTERESSE PER I CITTADINI E GLI ALTRI STAKEHOLDER ESTERNI
A7: =+CONCATENATE(B7,C7) -> MINT2.1 | B7: =+IF(IFERROR(VLOOKUP($D$2,amm.ni!$B$2:$C$163,1,FALSE),1)=$D$2,VLOOKUP($D$2,amm.ni!$B$2:$C$163,2,FALSE),IF($D$2="","non compilato",IF(AND($D$2=amm.ni!$B$164,$D$3=""),$D$2,$D$3))) -> MINT | C7: 2.1 | D7: Il contesto esterno di riferimento | E7: La sezione è stata sviluppata anche con riferimento agli interventi normativi intervenuti in corso d'anno e alle situazioni emergenziali verificatesi. Sono indicati in modo puntuale gli utenti destinatari dei servizi resi. | F7: SI
A8: =+CONCATENATE(B8,C8) -> MINT2.2 | B8: =+IF(IFERROR(VLOOKUP($D$2,amm.ni!$B$2:$C$163,1,FALSE),1)=$D$2,VLOOKUP($D$2,amm.ni!$B$2:$C$163,2,FALSE),IF($D$2="","non compilato",IF(AND($D$2=amm.ni!$B$164,$D$3=""),$D$2,$D$3))) -> MINT | C8: 2.2 | D8: L’amministrazione | E8: Le attività, le competenze, le risorse umane e finanziarie e l'organizzazione dell'Amministrazione sono esposte complete di dati e informazioni. | F8: SI
A9: =+CONCATENATE(B9,C9) -> MINT2.3 | B9: =+IF(IFERROR(VLOOKUP($D$2,amm.ni!$B$2:$C$163,1,FALSE),1)=$D$2,VLOOKUP($D$2,amm.ni!$B$2:$C$163,2,FALSE),IF($D$2="","non compilato",IF(AND($D$2=amm.ni!$B$164,$D$3=""),$D$2,$D$3))) -> MINT | C9: 2.3 | D9: I risultati raggiunti | E9: Le informazioni sono nel complesso dettagliate ed evidenziano i risultati conseguiti in relazione alle specifiche aree di competenza. In ragione della particolare complessità ed ampiezza dei servizi resi, il portato informativo scaturente risulta estremamente ponderoso, perdendo talora, specie nei paragrafi descrittivi degli obiettivi e dei risultati raggiunti, quella immediatezza espositiva che serve a rendere più agevole ed efficace la comunicazione. | F9: SI
A10: =+CONCATENATE(B10,C10) -> MINT2.4 | B10: =+IF(IFERROR(VLOOKUP($D$2,amm.ni!$B$2:$C$163,1,FALSE),1)=$D$2,VLOOKUP($D$2,amm.ni!$B$2:$C$163,2,FALSE),IF($D$2="","non compilato",IF(AND($D$2=amm.ni!$B$164,$D$3=""),$D$2,$D$3))) -> MINT | C10: 2.4 | D10: Le criticità e le opportunità | E10: L'indicazione delle criticità e delle opportunità è esposta in modo adeguato. Viene evidenziata, quale criticità comune, il perdurare della riduzione delle risorse finanziarie. | F10: SI
A11: =+CONCATENATE(B11,C11) -> MINT3 | B11: =+IF(IFERROR(VLOOKUP($D$2,amm.ni!$B$2:$C$163,1,FALSE),1)=$D$2,VLOOKUP($D$2,amm.ni!$B$2:$C$163,2,FALSE),IF($D$2="","non compilato",IF(AND($D$2=amm.ni!$B$164,$D$3=""),$D$2,$D$3))) -> MINT | C11: 3 | D11: OBIETTIVI: RISULTATI RAGGIUNTI E SCOSTAMENTI
A12: =+CONCATENATE(B12,C12) -> MINT3.1 | B12: =+IF(IFERROR(VLOOKUP($D$2,amm.ni!$B$2:$C$163,1,FALSE),1)=$D$2,VLOOKUP($D$2,amm.ni!$B$2:$C$163,2,FALSE),IF($D$2="","non compilato",IF(AND($D$2=amm.ni!$B$164,$D$3=""),$D$2,$D$3))) -> MINT | C12: 3.1 | D12: Albero della performance | E12: Esposizione completa, descrittiva e grafica. | F12: SI
A13: =+CONCATENATE(B13,C13) -> MINT3.2 | B13: =+IF(IFERROR(VLOOKUP($D$2,amm.ni!$B$2:$C$163,1,FALSE),1)=$D$2,VLOOKUP($D$2,amm.ni!$B$2:$C$163,2,FALSE),IF($D$2="","non compilato",IF(AND($D$2=amm.ni!$B$164,$D$3=""),$D$2,$D$3))) -> MINT | C13: 3.2 | D13: Obiettivi strategici | E13: L'analisi del sistema degli obiettivi strategici/operativi e gestionali (comprensivo di indicatori, target, risorse finanziarie, risultati raggiunti) - operata attraverso un raffronto dei dati della Relazione con gli elementi in possesso (Nota integrativa al bilancio di previsione e a consuntivo 2015, Piano della performance 2015-2017, nonchè esiti dei monitoraggi effettuati dall'OIV per il 2015) - ha evidenziato un quadro informativo coerente ed attendibile. Quanto agli indicatori rimane preponderante l'impiego di indicatori di realizzazione fisica anche se si è registrato un incremento di quelli di output. Tale circostanza ha determinato riflessi sulle modalità di esternalizzazione degli esiti dell'azione amministrativa, che sono stati in larga misura evidenziati attraverso processi descrittivi delle attività svolte piuttosto che attraverso un'informazione di sintesi espressiva dei dati qualitativi o quantitativi riferiti al risultato prodotto o all'impatto ottenuto. | F13: SI
A14: =+CONCATENATE(B14,C14) -> MINT3.3 | B14: =+IF(IFERROR(VLOOKUP($D$2,amm.ni!$B$2:$C$163,1,FALSE),1)=$D$2,VLOOKUP($D$2,amm.ni!$B$2:$C$163,2,FALSE),IF($D$2="","non compilato",IF(AND($D$2=amm.ni!$B$164,$D$3=""),$D$2,$D$3))) -> MINT | C14: 3.3 | D14: Obiettivi e piani operativi | E14: come sopra | F14: SI
A15: =+CONCATENATE(B15,C15) -> MINT3.4 | B15: =+IF(IFERROR(VLOOKUP($D$2,amm.ni!$B$2:$C$163,1,FALSE),1)=$D$2,VLOOKUP($D$2,amm.ni!$B$2:$C$163,2,FALSE),IF($D$2="","non compilato",IF(AND($D$2=amm.ni!$B$164,$D$3=""),$D$2,$D$3))) -> MINT | C15: 3.4 | D15: Obiettivi individuali | E15: La validazione di tale sezione è stata attuata con riguardo agli obiettivi gestionali. Ciò in quanto l'Amministrazione ha inteso rappresentare la propria azione attraverso obiettivi gestionali "di struttura" piuttosto che individuali.Tale scelta, che si armonizza con l'impianto della Nota integrativa al bilancio di previsione del Ministero dell'Interno e del Piano della performance, articolato anch'esso in obiettivi strategici/operativi e obiettivi gestionali di struttura, va ricondotta alla considerazione che una differente esternalizzazione dei processi pianificatori e di refertazione, articolata per obiettivi individuali, sarebbe risultata, tenuto conto del rilevante numero di unità dirigenziali in servizio presso il Ministero dell'Interno, non solo complessa, ma anche verosimilmente frammentaria e poco organica ai fini della comunicazione istituzionale e al cittadino. | F15: SI
A16: =+CONCATENATE(B16,C16) -> MINT4 | B16: =+IF(IFERROR(VLOOKUP($D$2,amm.ni!$B$2:$C$163,1,FALSE),1)=$D$2,VLOOKUP($D$2,amm.ni!$B$2:$C$163,2,FALSE),IF($D$2="","non compilato",IF(AND($D$2=amm.ni!$B$164,$D$3=""),$D$2,$D$3))) -> MINT | C16: 4 | D16: RISORSE, EFFICIENZA ED ECONOMICITÀ | E16: La verifica di congruità globale, effettuata anche attraverso il riscontro dei documenti ufficiali in possesso dell'OIV (Nota integrativa al Rendiconto generale dello Stato - Ministero dell'Interno relativa al 2015, Rapporto sulla spesa presentato al Parlamento e al Ministero dell'Economia e delle Finanze a consuntivo 2015) ha fatto riscontrare, in generale, una adeguatezza della sezione ai parametri previsti. | F16: SI
A17: =+CONCATENATE(B17,C17) -> MINT5 | B17: =+IF(IFERROR(VLOOKUP($D$2,amm.ni!$B$2:$C$163,1,FALSE),1)=$D$2,VLOOKUP($D$2,amm.ni!$B$2:$C$163,2,FALSE),IF($D$2="","non compilato",IF(AND($D$2=amm.ni!$B$164,$D$3=""),$D$2,$D$3))) -> MINT | C17: 5 | D17: PARI OPPORTUNITÀ E BILANCIO DI GENERE | E17: L'Amministrazione ha fornito sintetiche informazioni sul Piano Triennale di Azioni Positive ed ha assicurato di aver posto in essere iniziative che hanno consentito di raggiungere un buon livello di equilibrio di genere. | F17: SI
A18: =+CONCATENATE(B18,C18) -> MINT6 | B18: =+IF(IFERROR(VLOOKUP($D$2,amm.ni!$B$2:$C$163,1,FALSE),1)=$D$2,VLOOKUP($D$2,amm.ni!$B$2:$C$163,2,FALSE),IF($D$2="","non compilato",IF(AND($D$2=amm.ni!$B$164,$D$3=""),$D$2,$D$3))) -> MINT | C18: 6 | D18: IL PROCESSO DI REDAZIONE DELLA RELAZIONE SULLA PERFORMANCE
A19: =+CONCATENATE(B19,C19) -> MINT6.1 | B19: =+IF(IFERROR(VLOOKUP($D$2,amm.ni!$B$2:$C$163,1,FALSE),1)=$D$2,VLOOKUP($D$2,amm.ni!$B$2:$C$163,2,FALSE),IF($D$2="","non compilato",IF(AND($D$2=amm.ni!$B$164,$D$3=""),$D$2,$D$3))) -> MINT | C19: 6.1 | D19: Fasi, soggetti, tempi e responsabilità | E19: Informazioni e dati completi. | F19: SI
A20: =+CONCATENATE(B20,C20) -> MINT6.2 | B20: =+IF(IFERROR(VLOOKUP($D$2,amm.ni!$B$2:$C$163,1,FALSE),1)=$D$2,VLOOKUP($D$2,amm.ni!$B$2:$C$163,2,FALSE),IF($D$2="","non compilato",IF(AND($D$2=amm.ni!$B$164,$D$3=""),$D$2,$D$3))) -> MINT | C20: 6.2 | D20: Punti di forza e di debolezza del ciclo di gestione della performance | E20: Rappresentati in modo esaustivo nelle rispettive sezioni. | F20: SI
A21: =+CONCATENATE(B21,C21) -> MINTAllegato 2 | B21: =+IF(IFERROR(VLOOKUP($D$2,amm.ni!$B$2:$C$163,1,FALSE),1)=$D$2,VLOOKUP($D$2,amm.ni!$B$2:$C$163,2,FALSE),IF($D$2="","non compilato",IF(AND($D$2=amm.ni!$B$164,$D$3=""),$D$2,$D$3))) -> MINT | C21: Allegato 2 | D21: Tabella obiettivi strategici | E21: Presente nel rispetto delle forme richieste. | F21: SI
A22: =+CONCATENATE(B22,C22) -> MINTAllegato 3 | B22: =+IF(IFERROR(VLOOKUP($D$2,amm.ni!$B$2:$C$163,1,FALSE),1)=$D$2,VLOOKUP($D$2,amm.ni!$B$2:$C$163,2,FALSE),IF($D$2="","non compilato",IF(AND($D$2=amm.ni!$B$164,$D$3=""),$D$2,$D$3))) -> MINT | C22: Allegato 3 | D22: Tabella documenti del ciclo di gestione della performance | E22: Presente nel rispetto delle forme richieste. | F22: SI
A23: =+CONCATENATE(B23,C23) -> MINTAllegato 4 | B23: =+IF(IFERROR(VLOOKUP($D$2,amm.ni!$B$2:$C$163,1,FALSE),1)=$D$2,VLOOKUP($D$2,amm.ni!$B$2:$C$163,2,FALSE),IF($D$2="","non compilato",IF(AND($D$2=amm.ni!$B$164,$D$3=""),$D$2,$D$3))) -> MINT | C23: Allegato 4 | D23: Tabelle sulla valutazione individuale | E23: L'Amministrazione non ha proceduto alla compilazione delle tabelle sulla valutazione individuale, in quanto per l'anno considerato non si sono verificate le condizioni per l'applicazione dell'art.5 comma 11 - quniquies del DL 95/2012. Inoltre, al momento della predisposizione della Relazione risultava che l'Amministrazione non aveva ancora avviato per il 2015 il procedimento di valutazione individuale dei dirigenti di Area I appartenenti alla prima fascia, mentre per i dirigenti di seconda fascia ed il restante personale contrattualizzato di livello non dirigenziale, non ne erano noti gli esiti. | F23: SI

Sheet amm.ni
A1: Comparto | B1: Denominazione Amministrazione | C1: Sigla
A2: Amministrazioni centrali | B2: Ministero del Lavoro e delle Politiche Sociali | C2: MLPS
A3: Amministrazioni centrali | B3: Ministero Infrastrutture e trasporti | C3: MIT
A4: Amministrazioni centrali | B4: Ministero della Giustizia | C4: MG
A5: Amministrazioni centrali | B5: Ministero per i beni e le attività culturali | C5: MIBAC
A6: Amministrazioni centrali | B6: Ministero Affari Esteri | C6: MAE
A7: Amministrazioni centrali | B7: Ministero Istruzione Università e Ricerca | C7: MIUR
A8: Amministrazioni centrali | B8: Ministero della Salute | C8: MSAL
A9: Amministrazioni centrali | B9: Ministero dell'Interno | C9: MINT
A10: Amministrazioni centrali | B10: Ministero della Difesa | C10: MDIF
A11: Amministrazioni centrali | B11: Agenzia industrie difesa | C11: AID
A12: Amministrazioni centrali | B12: Ministero dell'Ambiente | C12: MAMB
... A163: Università pubbliche | B163: I.U.S.S. - Istituto Universitario di Studi Superiori - PAVIA | C163: IUSS
B164: Altra amministrazione

Sheet Foglio1
